BEGIN:VCALENDAR
VERSION:2.0
PRODID:-// - ECPv4.8.1//NONSGML v1.0//EN
CALSCALE:GREGORIAN
METHOD:PUBLISH
X-ORIGINAL-URL:https://nthringwoodfc.com.au
X-WR-CALDESC:Events for 
BEGIN:VEVENT
DTSTART;TZID=UTC+10:20190824T100000
DTEND;TZID=UTC+10:20190824T170000
DTSTAMP:20200302T105156
CREATED:20190225T052405Z
LAST-MODIFIED:20190225T052405Z
UID:3416-1566640800-1566666000@nthringwoodfc.com.au
SUMMARY:Round 18 Versus Vermont  At Home August 24.
DESCRIPTION:Under 19 starting at 10.00 am. \nReserves at 12.05 pm. \nSeniors at 2.10 pm. \n
URL:https://nthringwoodfc.com.au/event/round-18-versus-vermont-at-home-august-24/
LOCATION:Quambee Reserve\, Wonga Rd\, North Ringwood\, Victoria\, 3134\, Australia
CATEGORIES:games
END:VEVENT
END:VCALENDAR