BEGIN:VCALENDAR
VERSION:2.0
PRODID:-// - ECPv4.8.1//NONSGML v1.0//EN
CALSCALE:GREGORIAN
METHOD:PUBLISH
X-ORIGINAL-URL:https://nthringwoodfc.com.au
X-WR-CALDESC:Events for 
BEGIN:VEVENT
DTSTART;TZID=UTC+10:20190810T100000
DTEND;TZID=UTC+10:20190810T170000
DTSTAMP:20200302T105044
CREATED:20190225T051826Z
LAST-MODIFIED:20190225T051826Z
UID:3412-1565431200-1565456400@nthringwoodfc.com.au
SUMMARY:Round 16 Versus Doncaster At Home August 10.
DESCRIPTION:Under 19 starting at 10.00 am. \nReserves at 12.05 pm. \nSeniors at 2.10 pm. \n
URL:https://nthringwoodfc.com.au/event/round-16-versus-doncaster-at-home-august-10/
LOCATION:Quambee Reserve\, Wonga Rd\, North Ringwood\, Victoria\, 3134\, Australia
CATEGORIES:games
END:VEVENT
BEGIN:VEVENT
DTSTART;TZID=UTC+10:20190810T114500
DTEND;TZID=UTC+10:20190810T140000
DTSTAMP:20200302T105044
CREATED:20190729T022702Z
LAST-MODIFIED:20190729T024225Z
UID:3778-1565437500-1565445600@nthringwoodfc.com.au
SUMMARY:President's Lunch
DESCRIPTION: \nTickets now available for 2019 President’s Lunch. \nQuambee Clubrooms \nSaturday August 10\, 11.45 – 2.00 prior to Doncaster match. \n$80.00 pp includes sit-down roast lunch\, beer\, wine\, soft-drink \nGuest Speakers – \nAFL Legend Terry Wallace and \nComedian Des Dowling. \nTickets are complimentary for Sainters Club Members. \nBookings are Essential – Lee Robinson 0428798786 or president@nthringwoodfc.com.au \n
URL:https://nthringwoodfc.com.au/event/presidents-lunch/
LOCATION:Quambee Reserve\, Wonga Rd\, North Ringwood\, Victoria\, 3134\, Australia
CATEGORIES:club
END:VEVENT
END:VCALENDAR