BEGIN:VCALENDAR
VERSION:2.0
PRODID:-// - ECPv4.8.1//NONSGML v1.0//EN
CALSCALE:GREGORIAN
METHOD:PUBLISH
X-ORIGINAL-URL:https://nthringwoodfc.com.au
X-WR-CALDESC:Events for 
BEGIN:VEVENT
DTSTART;TZID=UTC+10:20180715T143000
DTEND;TZID=UTC+10:20180715T170000
DTSTAMP:20200302T103419
CREATED:20180422T041641Z
LAST-MODIFIED:20180422T041641Z
UID:3059-1531665000-1531674000@nthringwoodfc.com.au
SUMMARY:Vets Round 7 v UFTG - Away
DESCRIPTION:
URL:https://nthringwoodfc.com.au/event/vets-round-7-v-uftg-away/
LOCATION:Kings Park\, Willow Road\, Upper Ferntree Gully\, Vic\, Australia
CATEGORIES:games
END:VEVENT
END:VCALENDAR