BEGIN:VCALENDAR
VERSION:2.0
PRODID:-// - ECPv4.8.1//NONSGML v1.0//EN
CALSCALE:GREGORIAN
METHOD:PUBLISH
X-ORIGINAL-URL:https://nthringwoodfc.com.au
X-WR-CALDESC:Events for 
BEGIN:VEVENT
DTSTART;TZID=UTC+10:20180701T143000
DTEND;TZID=UTC+10:20180701T170000
DTSTAMP:20200302T103329
CREATED:20180422T041424Z
LAST-MODIFIED:20180422T041424Z
UID:3057-1530455400-1530464400@nthringwoodfc.com.au
SUMMARY:Vets Round 6 v Eltham - Home
DESCRIPTION:
URL:https://nthringwoodfc.com.au/event/vets-round-6-v-eltham-home/
LOCATION:Quambee Reserve\, Wonga Rd\, North Ringwood\, Victoria\, 3134\, Australia
CATEGORIES:games
END:VEVENT
END:VCALENDAR