BEGIN:VCALENDAR
VERSION:2.0
PRODID:-// - ECPv4.8.1//NONSGML v1.0//EN
CALSCALE:GREGORIAN
METHOD:PUBLISH
X-ORIGINAL-URL:https://nthringwoodfc.com.au
X-WR-CALDESC:Events for 
BEGIN:VEVENT
DTSTART;TZID=UTC+10:20180405T180000
DTEND;TZID=UTC+10:20180405T213000
DTSTAMP:20200302T103917
CREATED:20180320T053150Z
LAST-MODIFIED:20180320T053300Z
UID:2883-1522951200-1522963800@nthringwoodfc.com.au
SUMMARY:Saints Season Launch Thursday April 5
DESCRIPTION: \n
URL:https://nthringwoodfc.com.au/event/saints-season-opener-thursday-april-5/
LOCATION:Quambee Reserve\, Wonga Rd\, North Ringwood\, Victoria\, 3134\, Australia
ATTACH;FMTTYPE=image/png:https://nthringwoodfc.com.au/wp-content/uploads/2018/03/1.png
END:VEVENT
END:VCALENDAR