BEGIN:VCALENDAR
VERSION:2.0
PRODID:-// - ECPv4.8.1//NONSGML v1.0//EN
CALSCALE:GREGORIAN
METHOD:PUBLISH
X-ORIGINAL-URL:https://nthringwoodfc.com.au
X-WR-CALDESC:Events for 
BEGIN:VEVENT
DTSTART;TZID=UTC+10:20190615T100000
DTEND;TZID=UTC+10:20190615T170000
DTSTAMP:20200229T102031
CREATED:20190225T050552Z
LAST-MODIFIED:20190225T050552Z
UID:3398-1560592800-1560618000@nthringwoodfc.com.au
SUMMARY:Round 9 Versus Vermont Away June 15.
DESCRIPTION:Under 19 starting at 10.00 am. \nReserves at 12.05 pm. \nSeniors at 2.10 pm. \n
URL:https://nthringwoodfc.com.au/event/round-9-versus-vermont-away-june-15/
LOCATION:Vermont Recreation Reserve\, Cnr Canterbury & Terrara Rds\, Vermont\, Vic\, 3133\, Australia
CATEGORIES:games
END:VEVENT
END:VCALENDAR