BEGIN:VCALENDAR
VERSION:2.0
PRODID:-// - ECPv4.8.1//NONSGML v1.0//EN
CALSCALE:GREGORIAN
METHOD:PUBLISH
X-ORIGINAL-URL:https://nthringwoodfc.com.au
X-WR-CALDESC:Events for 
BEGIN:VEVENT
DTSTART;TZID=UTC+10:20180616T093000
DTEND;TZID=UTC+10:20180616T170000
DTSTAMP:20200302T103218
CREATED:20180321T061758Z
LAST-MODIFIED:20180615T093301Z
UID:2916-1529141400-1529168400@nthringwoodfc.com.au
SUMMARY:Round 9 v Knox - Away
DESCRIPTION: \nOur second outing against Knox for the season\, this time at their ground. \nUnder 19s are playing at Rowville at 9.30 am. \n Reserves at 12.05 pm\, and Seniors at 2.10 pm\, at Knox. \n
URL:https://nthringwoodfc.com.au/event/round-9-v-knox/
LOCATION:Knox Gardens Reserve\, Argyle Way\, Wantirna South\, Vic\, 3152\, Australia
CATEGORIES:games
END:VEVENT
END:VCALENDAR