BEGIN:VCALENDAR
VERSION:2.0
PRODID:-// - ECPv4.8.1//NONSGML v1.0//EN
CALSCALE:GREGORIAN
METHOD:PUBLISH
X-ORIGINAL-URL:https://nthringwoodfc.com.au
X-WR-CALDESC:Events for 
BEGIN:VEVENT
DTSTART;TZID=UTC+10:20190601T100000
DTEND;TZID=UTC+10:20190601T170000
DTSTAMP:20200229T101922
CREATED:20190225T050311Z
LAST-MODIFIED:20190225T050340Z
UID:3395-1559383200-1559408400@nthringwoodfc.com.au
SUMMARY:Round 8 Versus Montrose At Home - Past Players Day - June 1st.
DESCRIPTION:Huge day for the Club today\, not only do we host our old rivals in Montrose\, but we get to celebrate milestones against them. \nWe welcome Past Players And Officials in celebrating Premierships of Colts (Under 18s) in 1989\, 1999 and 2009; Reserves 1969 Premiership; \nand Senior Premierships of 1989 and 1999. \nLooking forward to a great day. \nUnder 19 starting at 10.00 am. \nReserves at 12.05 pm. \nSeniors at 2.10 pm. \n
URL:https://nthringwoodfc.com.au/event/round-8-versus-montrose-at-home-past-players-day-june-1st/
LOCATION:Quambee Reserve\, Wonga Rd\, North Ringwood\, Victoria\, 3134\, Australia
CATEGORIES:club,games
END:VEVENT
END:VCALENDAR