BEGIN:VCALENDAR
VERSION:2.0
PRODID:-// - ECPv4.8.1//NONSGML v1.0//EN
CALSCALE:GREGORIAN
METHOD:PUBLISH
X-ORIGINAL-URL:https://nthringwoodfc.com.au
X-WR-CALDESC:Events for 
BEGIN:VEVENT
DTSTART;TZID=UTC+10:20190511T100000
DTEND;TZID=UTC+10:20190511T170000
DTSTAMP:20200229T101811
CREATED:20190225T043453Z
LAST-MODIFIED:20190225T043453Z
UID:3388-1557568800-1557594000@nthringwoodfc.com.au
SUMMARY:Round 5 Versus South Croydon at Home May 11.
DESCRIPTION:Under 19 starting at 10.00 am. \nReserves at 12.05 pm. \nSeniors at 2.10 pm. \n
URL:https://nthringwoodfc.com.au/event/round-5-versus-south-croydon-at-home-may-11/
LOCATION:Quambee Reserve\, Wonga Rd\, North Ringwood\, Victoria\, 3134\, Australia
CATEGORIES:games
END:VEVENT
END:VCALENDAR