BEGIN:VCALENDAR
VERSION:2.0
PRODID:-// - ECPv4.8.1//NONSGML v1.0//EN
CALSCALE:GREGORIAN
METHOD:PUBLISH
X-ORIGINAL-URL:https://nthringwoodfc.com.au
X-WR-CALDESC:Events for 
BEGIN:VEVENT
DTSTART;TZID=UTC+10:20190427T100000
DTEND;TZID=UTC+10:20190427T170000
DTSTAMP:20200229T101737
CREATED:20190225T042952Z
LAST-MODIFIED:20190225T043028Z
UID:3383-1556359200-1556384400@nthringwoodfc.com.au
SUMMARY:Round 3 At Home Versus Balwyn April 27.
DESCRIPTION:Big test today as we host Balwyn after the Easter break. \nUnder 19 starting at 10.00 am. \nReserves at 12.05 pm. \nSeniors at 2.10 pm. \n
URL:https://nthringwoodfc.com.au/event/round-3-at-home-versus-balwyn-april-27/
LOCATION:Quambee Reserve\, Wonga Rd\, North Ringwood\, Victoria\, 3134\, Australia
CATEGORIES:games
END:VEVENT
END:VCALENDAR