BEGIN:VCALENDAR
VERSION:2.0
PRODID:-// - ECPv4.8.1//NONSGML v1.0//EN
CALSCALE:GREGORIAN
METHOD:PUBLISH
X-ORIGINAL-URL:https://nthringwoodfc.com.au
X-WR-CALDESC:Events for 
BEGIN:VEVENT
DTSTART;TZID=UTC+10:20190413T100000
DTEND;TZID=UTC+10:20190413T170000
DTSTAMP:20200229T101720
CREATED:20190225T042742Z
LAST-MODIFIED:20190225T042742Z
UID:3380-1555149600-1555174800@nthringwoodfc.com.au
SUMMARY:Round 2 Versus Norwood Away April 13.
DESCRIPTION:Today we visit local rivals Norwood at Mullum Reserve. \nGuaranteed to be a big day in football. \nUnder 19 starting at 10.00 am. \nReserves at 12.05 pm. \nSeniors at 2.10 pm. \n
URL:https://nthringwoodfc.com.au/event/round-2-versus-norwood-away-april-13/
LOCATION:Mullum Reserve\, Mullum Mullum Rd\, Ringwood\, Vic\, 3134\, Australia
CATEGORIES:games
END:VEVENT
END:VCALENDAR