BEGIN:VCALENDAR
VERSION:2.0
PRODID:-// - ECPv4.8.1//NONSGML v1.0//EN
CALSCALE:GREGORIAN
METHOD:PUBLISH
X-ORIGINAL-URL:https://nthringwoodfc.com.au
X-WR-CALDESC:Events for 
BEGIN:VEVENT
DTSTART;TZID=UTC+10:20180707T093000
DTEND;TZID=UTC+10:20180707T170000
DTSTAMP:20200302T103345
CREATED:20180321T063253Z
LAST-MODIFIED:20180326T080353Z
UID:2924-1530955800-1530982800@nthringwoodfc.com.au
SUMMARY:Round 12 v Rowville - Home
DESCRIPTION: \nWe welcome Rowville to Quambee today. Results have been mixed in recent years\, so we are guaranteed a good contest. \nUnder 19s at 9.30 am\, Reserves at 12.05 pm\, and Seniors at 2.10 pm. \n
URL:https://nthringwoodfc.com.au/event/round-12-v-rowville/
LOCATION:Quambee Reserve\, Wonga Rd\, North Ringwood\, Victoria\, 3134\, Australia
CATEGORIES:games
END:VEVENT
END:VCALENDAR