BEGIN:VCALENDAR
VERSION:2.0
PRODID:-// - ECPv4.8.1//NONSGML v1.0//EN
CALSCALE:GREGORIAN
METHOD:PUBLISH
X-ORIGINAL-URL:https://nthringwoodfc.com.au
X-WR-CALDESC:Events for 
BEGIN:VEVENT
DTSTART;TZID=UTC+10:20180408T093000
DTEND;TZID=UTC+10:20180408T170000
DTSTAMP:20200302T104027
CREATED:20180321T052428Z
LAST-MODIFIED:20180326T075452Z
UID:2896-1523179800-1523206800@nthringwoodfc.com.au
SUMMARY:Round 1 v East Ringwood - Sunday - Away
DESCRIPTION: \nHi Sainters. \nWe kick off Saints Season Eighteen with our now traditional Sunday clash with East Ringwood at East on April 8th. \nThis is bound to be a tough game to start the season\, so please  come along and cheer on our 3 teams. \nUnder 19s at 9.30 am\, Reserves at 12.05 pm\, and Seniors at 2.10 pm. \n
URL:https://nthringwoodfc.com.au/event/round-1-v-east-ringwood-3/
LOCATION:East Ringwood Reserve\, MtDandenong Rd\, East Ringwood\, Vic\, Australia
CATEGORIES:games
END:VEVENT
END:VCALENDAR