BEGIN:VCALENDAR
VERSION:2.0
PRODID:-// - ECPv4.8.1//NONSGML v1.0//EN
CALSCALE:GREGORIAN
METHOD:PUBLISH
X-ORIGINAL-URL:https://nthringwoodfc.com.au
X-WR-CALDESC:Events for 
BEGIN:VEVENT
DTSTART;TZID=UTC+10:20180317T094500
DTEND;TZID=UTC+10:20180317T160000
DTSTAMP:20200302T103857
CREATED:20180313T231928Z
LAST-MODIFIED:20180314T050156Z
UID:2828-1521279900-1521302400@nthringwoodfc.com.au
SUMMARY:Practice Match Saturday 17 March
DESCRIPTION: \nGreetings Sainters \nWe kick of Saints Season Eighteen with our first competitive hit-out with 3 practice matches against Greensborough who are a Division One Club in the Northern Football League. \nLast year\, for the 4th year in a row\, all 3 Greensborough sides played Finals\, so we are bound to have 3 good battles on Saturday. \nGame times: 9.45 – U/19’s; 11.45 = Reserves and 2.05 – Seniors. \nThe venue is Greensborough War Memorial park. \nEntrance is via Henry St\, or McDowell St. Both are off Grimshaw St near Woolies and KFC. \nDon’t park in the Woolies car park as inspectors will out and you might get booked. \nI have been advised that SEATING AND SHADE IS VERY LIMITED\, so it might be wise to take your own chair and perhaps an umbrella as the forecast is for a very hot day. \nFood and drinks available at he ground. \nSee you there. \n
URL:https://nthringwoodfc.com.au/event/practice-match-saturday-17-march/
LOCATION:Greensborough War Memorial Park\, Henry St\, Greensborough\, Victoria\, 3088\, Australia
CATEGORIES:games
END:VEVENT
END:VCALENDAR