BEGIN:VCALENDAR
VERSION:2.0
PRODID:-// - ECPv4.8.1//NONSGML v1.0//EN
CALSCALE:GREGORIAN
METHOD:PUBLISH
X-ORIGINAL-URL:https://nthringwoodfc.com.au
X-WR-CALDESC:Events for 
BEGIN:VEVENT
DTSTART;TZID=UTC+10:20190601T113000
DTEND;TZID=UTC+10:20190601T140000
DTSTAMP:20200229T101944
CREATED:20190225T055319Z
LAST-MODIFIED:20190225T055319Z
UID:3418-1559388600-1559397600@nthringwoodfc.com.au
SUMMARY:Past Players And Officials Day - Premiership Reunions.
DESCRIPTION:Today we welcome Past Players\, Officials\, Coaches and Trainers to celebrate Premiership winning seasons for: \nColts – 1989\, 1999 and 2009. \nReserves – 1969. \nSeniors – 1989 and1999. \nBound to be a huge day commencing at 11.30 am to 2.00 pm. \nQuambee Clubrooms\, Wonga Rd North Ringwood. \n  \n
URL:https://nthringwoodfc.com.au/event/past-players-and-officials-day-premiership-reunions/
LOCATION:Quambee Reserve\, Wonga Rd\, North Ringwood\, Victoria\, 3134\, Australia
CATEGORIES:club
END:VEVENT
END:VCALENDAR