BEGIN:VCALENDAR
VERSION:2.0
PRODID:-// - ECPv4.8.1//NONSGML v1.0//EN
CALSCALE:GREGORIAN
METHOD:PUBLISH
X-ORIGINAL-URL:https://nthringwoodfc.com.au
X-WR-CALDESC:Events for 
BEGIN:VEVENT
DTSTART;TZID=UTC+10:20180623T113000
DTEND;TZID=UTC+10:20180623T140000
DTSTAMP:20200302T103254
CREATED:20180521T094944Z
LAST-MODIFIED:20180521T094944Z
UID:3132-1529753400-1529762400@nthringwoodfc.com.au
SUMMARY:Past Players And Officials Day Full Of Milestiones
DESCRIPTION: \nThis year’s Past Players And Officials Day is one not to be missed as we celebrate many “8” milestones that helped shape our club such as 1978 Seniors Premiership\, North’s First\, 1998 Reserves Premiership\, and Under 18s Premierships of 1988 and 1998. \nThis is going to be another huge day at the club\, so please get in early to reserve your spot. \nDetails below: \n         North Ringwood Football Club \n        Cordially invites all Past Players\, Coaches\, Committee & Trainers to \nPAST PLAYERS DAY \nSaturday 23rd June \n11.30 Onwards \nCelebrating: 40th Anniversary of Seniors 1978 Premiership \n20th Anniversary of Reserves 1998 Premiership \n30th Anniversary of Under 18s 1988 Premiership \n20th Anniversary of Under 18s 1998 Premiership \nClub Rooms\, Quambee Reserve\, Wonga Road\, \nNorth Ringwood \nThis is a Home Game v Balwyn \nCover charge still just $30.00 \n    Includes Free Ground Entry – please advise gatekeeper on entry. \n   Roast beef & pork rolls\, draught beer\, wine & soft-drink (12 till 2) \n   Please forward this to your mates to ensure no-one misses out on an invite. \n Please RSVP by 15th June \nto ensure we have sufficient food to feed you. \nTo Joe Tunstall: Email joetunstall@gmail.com\nor text/phone 0424 522 646 \n
URL:https://nthringwoodfc.com.au/event/past-players-and-officials-day-full-of-milestiones/
LOCATION:Quambee Reserve\, Wonga Rd\, North Ringwood\, Victoria\, 3134\, Australia
CATEGORIES:club
END:VEVENT
END:VCALENDAR